BEGIN:VCALENDAR
VERSION:2.0
PRODID:-//Plone.org//NONSGML plone.app.event//EN
X-WR-TIMEZONE:Europe/Rome
BEGIN:VEVENT
SUMMARY:Gadda nella storia letteraria del Novecento
DTSTART;TZID=Europe/Rome:20230525T100000
DTEND;TZID=Europe/Rome:20230525T120000
DTSTAMP:20260422T213629Z
UID:b3eb5306496741d2b86a2857e0f71be9@localhost:6081
CONTACT:https://web-dev-1.uniud.it/it/scuola/eventi/conferenze/gadda-nella
 -storia-letteraria-del-novecento
CREATED:20230120T140546Z
LAST-MODIFIED:20230629T175012Z
LOCATION:Aula T7\, Palazzo di Toppo Wassermann\, via Gemona 92
URL:https://superiore.uniud.it/it/manual-links/events/evento-1
END:VEVENT
BEGIN:VTIMEZONE
TZID:Europe/Rome
X-LIC-LOCATION:Europe/Rome
BEGIN:DAYLIGHT
DTSTART:20230326T030000
TZNAME:CEST
TZOFFSETFROM:+0100
TZOFFSETTO:+0200
END:DAYLIGHT
END:VTIMEZONE
END:VCALENDAR
