BEGIN:VCALENDAR
VERSION:2.0
PRODID:-//Plone.org//NONSGML plone.app.event//EN
X-WR-TIMEZONE:Europe/Rome
BEGIN:VEVENT
SUMMARY:Intelligenza Artificiale e diritti. Una prospettiva filosofica
DTSTART;TZID=Europe/Rome:20230614T093000
DTEND;TZID=Europe/Rome:20230614T113000
DTSTAMP:20260419T212300Z
UID:8da54e0f89864def80130ecd310eebc5@localhost:6081
CONTACT:https://web-dev-1.uniud.it/it/scuola/eventi/conferenze/intelligenz
 a-artificiale-e-diritti-una-prospettiva-filosofica
CREATED:20230629T185005Z
LAST-MODIFIED:20230629T201945Z
LOCATION:Sala Tomadini\, Polo economico-giuridico\, Via Tomadini 30/A\, Ud
 ine
URL:https://superiore.uniud.it/it/manual-links/events/intelligenza-artific
 iale-e-diritti-una-prospettiva-filosofica
END:VEVENT
BEGIN:VTIMEZONE
TZID:Europe/Rome
X-LIC-LOCATION:Europe/Rome
BEGIN:DAYLIGHT
DTSTART:20230326T030000
TZNAME:CEST
TZOFFSETFROM:+0100
TZOFFSETTO:+0200
END:DAYLIGHT
END:VTIMEZONE
END:VCALENDAR
